BEGIN:VCALENDAR
VERSION:2.0
PRODID:-//Gerringong Bowlo - ECPv5.0.0.2//NONSGML v1.0//EN
CALSCALE:GREGORIAN
METHOD:PUBLISH
X-WR-CALNAME:Gerringong Bowlo
X-ORIGINAL-URL:http://gerringongbowlo.com.au
X-WR-CALDESC:Events for Gerringong Bowlo
BEGIN:VTIMEZONE
TZID:Australia/Sydney
BEGIN:STANDARD
TZOFFSETFROM:+1100
TZOFFSETTO:+1000
TZNAME:AEST
DTSTART:20180331T160000
END:STANDARD
BEGIN:DAYLIGHT
TZOFFSETFROM:+1000
TZOFFSETTO:+1100
TZNAME:AEDT
DTSTART:20181006T160000
END:DAYLIGHT
BEGIN:STANDARD
TZOFFSETFROM:+1100
TZOFFSETTO:+1000
TZNAME:AEST
DTSTART:20190406T160000
END:STANDARD
BEGIN:DAYLIGHT
TZOFFSETFROM:+1000
TZOFFSETTO:+1100
TZNAME:AEDT
DTSTART:20191005T160000
END:DAYLIGHT
BEGIN:STANDARD
TZOFFSETFROM:+1100
TZOFFSETTO:+1000
TZNAME:AEST
DTSTART:20200404T160000
END:STANDARD
BEGIN:DAYLIGHT
TZOFFSETFROM:+1000
TZOFFSETTO:+1100
TZNAME:AEDT
DTSTART:20201003T160000
END:DAYLIGHT
END:VTIMEZONE
BEGIN:VEVENT
DTSTART;TZID=Australia/Sydney:20181018T190000
DTEND;TZID=Australia/Sydney:20181018T190000
DTSTAMP:20200225T231328
CREATED:20181018T083557Z
LAST-MODIFIED:20191126T232455Z
UID:5461-1539889200-1539889200@gerringongbowlo.com.au
SUMMARY:Trivia Night
DESCRIPTION:They say that knowledge is power… \nAnd this is true at Gerringong Bowlo. Every Thursday night the battle of knowledge starts at 7pm. At our curated trivia nights\, you will laugh\, you will learn and you may even triumph. \n
URL:http://gerringongbowlo.com.au/event/trivia-night/2018-10-18/
ATTACH;FMTTYPE=image/jpeg:http://gerringongbowlo.com.au/wp-content/uploads/2018/10/GERRBOWL_Web-Thumbs3.jpg
END:VEVENT
BEGIN:VEVENT
DTSTART;VALUE=DATE:20181213
DTEND;VALUE=DATE:20181221
DTSTAMP:20200225T231328
CREATED:20181213T093116Z
LAST-MODIFIED:20181213T093116Z
UID:6544-1544659200-1545350399@gerringongbowlo.com.au
SUMMARY:Christmas Appeal
DESCRIPTION:Donate a gift this Christmas. All toys donated to Westmead Children’s Hospital. \n
URL:http://gerringongbowlo.com.au/event/christmas-appeal/
ATTACH;FMTTYPE=image/jpeg:http://gerringongbowlo.com.au/wp-content/uploads/2018/12/GERRBOWL_Bandage-Bear-Christmas-Tree-FB-image.jpg
END:VEVENT
BEGIN:VEVENT
DTSTART;VALUE=DATE:20181213
DTEND;VALUE=DATE:20181214
DTSTAMP:20200225T231328
CREATED:20181213T094923Z
LAST-MODIFIED:20181213T095406Z
UID:6558-1544659200-1544745599@gerringongbowlo.com.au
SUMMARY:Cocktails
DESCRIPTION:Click to see full cocktail menu » \n
URL:http://gerringongbowlo.com.au/event/cocktails/2018-12-13/
ATTACH;FMTTYPE=image/jpeg:http://gerringongbowlo.com.au/wp-content/uploads/2018/12/Cockail-Menu.jpg
END:VEVENT
BEGIN:VEVENT
DTSTART;TZID=Australia/Sydney:20181214T060000
DTEND;TZID=Australia/Sydney:20181214T190000
DTSTAMP:20200225T231328
CREATED:20181213T093333Z
LAST-MODIFIED:20181213T093333Z
UID:6547-1544767200-1544814000@gerringongbowlo.com.au
SUMMARY:Christmas Ham Raffles
DESCRIPTION:Tickets on sale 6pm. Drawn 7pm. \n
URL:http://gerringongbowlo.com.au/event/christmas-ham-raffles/2018-12-14/
ATTACH;FMTTYPE=image/jpeg:http://gerringongbowlo.com.au/wp-content/uploads/2018/12/GERRBOWL_Ham-Raffles-FB-Image.jpg
END:VEVENT
BEGIN:VEVENT
DTSTART;VALUE=DATE:20181231
DTEND;VALUE=DATE:20190101
DTSTAMP:20200225T231328
CREATED:20181213T094329Z
LAST-MODIFIED:20181213T094329Z
UID:6555-1546214400-1546300799@gerringongbowlo.com.au
SUMMARY:New Years Eve At The Bowlo
DESCRIPTION:BOYZNBERRY FROM 8:00PM \n
URL:http://gerringongbowlo.com.au/event/new-years-eve-at-the-bowlo/
ATTACH;FMTTYPE=image/jpeg:http://gerringongbowlo.com.au/wp-content/uploads/2018/12/GERRBOWL_Whats-on-Facebook-Images3-1.jpg
END:VEVENT
BEGIN:VEVENT
DTSTART;TZID=Australia/Sydney:20190719T080000
DTEND;TZID=Australia/Sydney:20190719T170000
DTSTAMP:20200225T231328
CREATED:20190719T013021Z
LAST-MODIFIED:20190719T013021Z
UID:9587-1563523200-1563555600@gerringongbowlo.com.au
SUMMARY:Winter Happy Hour
DESCRIPTION: \nWinter happy Hour \n3.30pm – 5.30pm \nSunday – Friday \n
URL:http://gerringongbowlo.com.au/event/winter-happy-hour/
END:VEVENT
BEGIN:VEVENT
DTSTART;TZID=Australia/Sydney:20190719T180000
DTEND;TZID=Australia/Sydney:20190719T200000
DTSTAMP:20200225T231328
CREATED:20190715T003630Z
LAST-MODIFIED:20191126T232314Z
UID:9197-1563559200-1563566400@gerringongbowlo.com.au
SUMMARY:Friday Mega Meat Raffle
DESCRIPTION:Friday Mega Meat Raffle – Meat trays & vouchers from Grants Butchers\, plus Fruit & Vegetable Boxes from Gerringong Fruit barn. \nTickets on sale from 6pm Drawn I Drawn 7pm \n
URL:http://gerringongbowlo.com.au/event/friday-mega-meat-raffle/2019-07-19/
ATTACH;FMTTYPE=image/jpeg:http://gerringongbowlo.com.au/wp-content/uploads/2019/07/GERRBOWL_Web-Thumbs2.jpg
END:VEVENT
BEGIN:VEVENT
DTSTART;TZID=Australia/Sydney:20190721T180000
DTEND;TZID=Australia/Sydney:20190721T200000
DTSTAMP:20200225T231328
CREATED:20190719T014343Z
LAST-MODIFIED:20191126T231119Z
UID:9591-1563732000-1563739200@gerringongbowlo.com.au
SUMMARY:Community Raffle
DESCRIPTION:Sunday Community Raffle \nTickets On Sale 6pm I Drawn at 7pm \n30 Prizes to be won \n
URL:http://gerringongbowlo.com.au/event/community-raffle/2019-07-21/
ATTACH;FMTTYPE=image/jpeg:http://gerringongbowlo.com.au/wp-content/uploads/2019/07/GERRBOWL_Web-Thumbs.jpg
END:VEVENT
BEGIN:VEVENT
DTSTART;TZID=Australia/Sydney:20190727T200000
DTEND;TZID=Australia/Sydney:20190727T233000
DTSTAMP:20200225T231328
CREATED:20190719T012759Z
LAST-MODIFIED:20190719T012759Z
UID:9584-1564257600-1564270200@gerringongbowlo.com.au
SUMMARY:Toxic Dolls - Live Entertainment
DESCRIPTION: \nLive Entertainment – Toxic Dolls \nSaturday 27th July \nFrom 8pm \n
URL:http://gerringongbowlo.com.au/event/toxic-dolls-live-entertainment/
END:VEVENT
BEGIN:VEVENT
DTSTART;TZID=Australia/Sydney:20190817T180000
DTEND;TZID=Australia/Sydney:20190817T210000
DTSTAMP:20200225T231328
CREATED:20190716T020139Z
LAST-MODIFIED:20190716T020139Z
UID:9527-1566064800-1566075600@gerringongbowlo.com.au
SUMMARY:Gerringong Bowling Club 60th Birthday Celebration Dinner
DESCRIPTION: \nGerringong Bowling Club will be holding our 60th Birthday Celebration Dinner \nSaturday 17th August 6pm \n$35.00 pp – Includes 2 course meal and Live Music \nTickets ON SALE NOW – 02 4234 1414 \n
URL:http://gerringongbowlo.com.au/event/gerringong-bowling-club-60th-birthday-celebration-dinner/
END:VEVENT
BEGIN:VEVENT
DTSTART;TZID=Australia/Sydney:20190818T113000
DTEND;TZID=Australia/Sydney:20190818T173000
DTSTAMP:20200225T231328
CREATED:20190716T020656Z
LAST-MODIFIED:20190716T020656Z
UID:9530-1566127800-1566149400@gerringongbowlo.com.au
SUMMARY:60Th Birthday Family Fun Day
DESCRIPTION: \n60th Birthday Family Fun Day \nSunday 18 August From 11:30 pm \nFREE EVENT \nJumping Castle – Face Painting \nSausage Sizzle – Live Entertainment \n
URL:http://gerringongbowlo.com.au/event/60th-birthday-family-fun-day/
END:VEVENT
BEGIN:VEVENT
DTSTART;VALUE=DATE:20191013
DTEND;VALUE=DATE:20191014
DTSTAMP:20200225T231328
CREATED:20190719T022238Z
LAST-MODIFIED:20190719T022238Z
UID:9805-1570924800-1571011199@gerringongbowlo.com.au
SUMMARY:Golf Legends Pro AM
DESCRIPTION: \nGerringong Golf Club \nLegends Pro – AM \nSunday 13th October 2019 \n
URL:http://gerringongbowlo.com.au/event/golf-legends-pro-am/
END:VEVENT
BEGIN:VEVENT
DTSTART;TZID=Australia/Sydney:20191123T200000
DTEND;TZID=Australia/Sydney:20191123T230000
DTSTAMP:20200225T231328
CREATED:20191126T063305Z
LAST-MODIFIED:20191126T063305Z
UID:16441-1574539200-1574550000@gerringongbowlo.com.au
SUMMARY:Live Music
DESCRIPTION:Every Saturday from 8pm at the Bowlo \n
URL:http://gerringongbowlo.com.au/event/live-music-2/2019-11-23/
ATTACH;FMTTYPE=image/jpeg:http://gerringongbowlo.com.au/wp-content/uploads/2019/11/GERRBOWL_Various-Web-Thumbs6.jpg
END:VEVENT
BEGIN:VEVENT
DTSTART;VALUE=DATE:20191124
DTEND;VALUE=DATE:20191125
DTSTAMP:20200225T231328
CREATED:20191126T062948Z
LAST-MODIFIED:20191212T045712Z
UID:16334-1574553600-1574639999@gerringongbowlo.com.au
SUMMARY:Sombrero Sundays
DESCRIPTION:Available all day at Keah’s Kitchen \n  \nNachos | Burritos | Enchiladas \n  \nFamily fiesta platters \n$16 Corona buckets \nMexican wings \n$8 margaritas \nFree ice cream for kids with any meal! \n
URL:http://gerringongbowlo.com.au/event/sombrero-sundays/2019-11-24/
ATTACH;FMTTYPE=image/jpeg:http://gerringongbowlo.com.au/wp-content/uploads/2019/11/GERRBOWL_Various-Web-Thumbs5.jpg
END:VEVENT
BEGIN:VEVENT
DTSTART;TZID=Australia/Sydney:20191130T203000
DTEND;TZID=Australia/Sydney:20191130T233000
DTSTAMP:20200225T231328
CREATED:20191126T063420Z
LAST-MODIFIED:20191126T063420Z
UID:16523-1575145800-1575156600@gerringongbowlo.com.au
SUMMARY:The U2 Show Achtung Baby
DESCRIPTION:Australia’s Premier U2 Tribute Show \n
URL:http://gerringongbowlo.com.au/event/the-u2-show-achtung-baby/
ATTACH;FMTTYPE=image/jpeg:http://gerringongbowlo.com.au/wp-content/uploads/2019/11/GERRBOWL_Various-Web-Thumbs7.jpg
END:VEVENT
BEGIN:VEVENT
DTSTART;TZID=Australia/Sydney:20191213T190000
DTEND;TZID=Australia/Sydney:20191213T193000
DTSTAMP:20200225T231328
CREATED:20191126T062407Z
LAST-MODIFIED:20191126T062407Z
UID:16317-1576263600-1576265400@gerringongbowlo.com.au
SUMMARY:Christmas Ham Raffles
DESCRIPTION:100 Hams to be won in December! \n  \nFri 13th | 40 hams \nSun 15th | 5 x vouchers \nFri 20th | 40 hams \nSun 22nd | 20 hams \n  \nTickets on sale at 6pm \nDrawn 7pm \n
URL:http://gerringongbowlo.com.au/event/christmas-ham-raffles-2/2019-12-13/
ATTACH;FMTTYPE=image/jpeg:http://gerringongbowlo.com.au/wp-content/uploads/2019/11/GERRBOWL_Various-Web-Thumbs.jpg
END:VEVENT
BEGIN:VEVENT
DTSTART;TZID=Australia/Sydney:20191221T100000
DTEND;TZID=Australia/Sydney:20191221T130000
DTSTAMP:20200225T231328
CREATED:20191126T062538Z
LAST-MODIFIED:20191126T062538Z
UID:16323-1576922400-1576933200@gerringongbowlo.com.au
SUMMARY:Christmas Parade
DESCRIPTION:For updates and more info follow us on Facebook! \n
URL:http://gerringongbowlo.com.au/event/christmas-parade/
ATTACH;FMTTYPE=image/jpeg:http://gerringongbowlo.com.au/wp-content/uploads/2019/11/GERRBOWL_Various-Web-Thumbs2.jpg
END:VEVENT
BEGIN:VEVENT
DTSTART;TZID=Australia/Sydney:20191221T173000
DTEND;TZID=Australia/Sydney:20191221T193000
DTSTAMP:20200225T231328
CREATED:20191126T062708Z
LAST-MODIFIED:20191126T062708Z
UID:16326-1576949400-1576956600@gerringongbowlo.com.au
SUMMARY:Christmas Carols on the Green
DESCRIPTION:Live music plus visit from Santa \nSpecial guests \nFace painting from 5pm \nSausage sizzle \nKeah’s Kitchen Specials \n
URL:http://gerringongbowlo.com.au/event/christmas-carols-on-the-green/
ATTACH;FMTTYPE=image/jpeg:http://gerringongbowlo.com.au/wp-content/uploads/2019/11/GERRBOWL_Various-Web-Thumbs3.jpg
END:VEVENT
BEGIN:VEVENT
DTSTART;TZID=Australia/Sydney:20191226T190000
DTEND;TZID=Australia/Sydney:20191226T190000
DTSTAMP:20200225T231328
CREATED:20181018T083557Z
LAST-MODIFIED:20191126T232526Z
UID:6178-1577386800-1577386800@gerringongbowlo.com.au
SUMMARY:Trivia Night
DESCRIPTION:They say that knowledge is power… \nAnd this is true at Gerringong Bowlo. Every Thursday night the battle of knowledge starts at 7pm. At our curated trivia nights\, you will laugh\, you will learn and you may even triumph. \n
URL:http://gerringongbowlo.com.au/event/trivia-night/2019-12-26/
ATTACH;FMTTYPE=image/jpeg:http://gerringongbowlo.com.au/wp-content/uploads/2018/10/GERRBOWL_Web-Thumbs3.jpg
END:VEVENT
BEGIN:VEVENT
DTSTART;TZID=Australia/Sydney:20191227T180000
DTEND;TZID=Australia/Sydney:20191227T200000
DTSTAMP:20200225T231328
CREATED:20190715T003630Z
LAST-MODIFIED:20191126T232351Z
UID:9223-1577469600-1577476800@gerringongbowlo.com.au
SUMMARY:Friday Mega Meat Raffle
DESCRIPTION:Friday Mega Meat Raffle – Meat trays & vouchers from Grants Butchers\, plus Fruit & Vegetable Boxes from Gerringong Fruit barn. \nTickets on sale from 6pm Drawn I Drawn 7pm \n
URL:http://gerringongbowlo.com.au/event/friday-mega-meat-raffle/2019-12-27/
ATTACH;FMTTYPE=image/jpeg:http://gerringongbowlo.com.au/wp-content/uploads/2019/07/GERRBOWL_Web-Thumbs2.jpg
END:VEVENT
BEGIN:VEVENT
DTSTART;TZID=Australia/Sydney:20191228T200000
DTEND;TZID=Australia/Sydney:20191228T230000
DTSTAMP:20200225T231328
CREATED:20191126T063305Z
LAST-MODIFIED:20191126T063305Z
UID:16448-1577563200-1577574000@gerringongbowlo.com.au
SUMMARY:Live Music
DESCRIPTION:Every Saturday from 8pm at the Bowlo \n
URL:http://gerringongbowlo.com.au/event/live-music-2/2019-12-28/
ATTACH;FMTTYPE=image/jpeg:http://gerringongbowlo.com.au/wp-content/uploads/2019/11/GERRBOWL_Various-Web-Thumbs6.jpg
END:VEVENT
BEGIN:VEVENT
DTSTART;VALUE=DATE:20191229
DTEND;VALUE=DATE:20191230
DTSTAMP:20200225T231328
CREATED:20191126T062948Z
LAST-MODIFIED:20191212T051037Z
UID:16341-1577577600-1577663999@gerringongbowlo.com.au
SUMMARY:Sombrero Sundays
DESCRIPTION:Available all day at Keah’s Kitchen \n  \nNachos | Burritos | Enchiladas \n  \nFamily fiesta platters \n$16 Corona buckets \nMexican wings \n$8 margaritas \nFree ice cream for kids with any meal! \n
URL:http://gerringongbowlo.com.au/event/sombrero-sundays/2019-12-29/
ATTACH;FMTTYPE=image/jpeg:http://gerringongbowlo.com.au/wp-content/uploads/2019/11/GERRBOWL_Various-Web-Thumbs5.jpg
END:VEVENT
BEGIN:VEVENT
DTSTART;TZID=Australia/Sydney:20191229T180000
DTEND;TZID=Australia/Sydney:20191229T200000
DTSTAMP:20200225T231328
CREATED:20190719T014343Z
LAST-MODIFIED:20191126T231159Z
UID:9616-1577642400-1577649600@gerringongbowlo.com.au
SUMMARY:Community Raffle
DESCRIPTION:Sunday Community Raffle \nTickets On Sale 6pm I Drawn at 7pm \n30 Prizes to be won \n
URL:http://gerringongbowlo.com.au/event/community-raffle/2019-12-29/
ATTACH;FMTTYPE=image/jpeg:http://gerringongbowlo.com.au/wp-content/uploads/2019/07/GERRBOWL_Web-Thumbs.jpg
END:VEVENT
BEGIN:VEVENT
DTSTART;TZID=Australia/Sydney:20191231T203000
DTEND;TZID=Australia/Sydney:20191231T235900
DTSTAMP:20200225T231328
CREATED:20191126T062822Z
LAST-MODIFIED:20191126T062822Z
UID:16331-1577824200-1577836740@gerringongbowlo.com.au
SUMMARY:NYE at the Bowlo
DESCRIPTION:Royale with Cheese \nAustralia’s premier 90’s rock show\, playing all 90s rock & pop covers! \n
URL:http://gerringongbowlo.com.au/event/nye-at-the-bowlo/
ATTACH;FMTTYPE=image/jpeg:http://gerringongbowlo.com.au/wp-content/uploads/2019/11/GERRBOWL_Various-Web-Thumbs4.jpg
END:VEVENT
BEGIN:VEVENT
DTSTART;TZID=Australia/Sydney:20200102T190000
DTEND;TZID=Australia/Sydney:20200102T190000
DTSTAMP:20200225T231328
CREATED:20181018T083557Z
LAST-MODIFIED:20191126T232527Z
UID:6182-1577991600-1577991600@gerringongbowlo.com.au
SUMMARY:Trivia Night
DESCRIPTION:They say that knowledge is power… \nAnd this is true at Gerringong Bowlo. Every Thursday night the battle of knowledge starts at 7pm. At our curated trivia nights\, you will laugh\, you will learn and you may even triumph. \n
URL:http://gerringongbowlo.com.au/event/trivia-night/2020-01-02/
ATTACH;FMTTYPE=image/jpeg:http://gerringongbowlo.com.au/wp-content/uploads/2018/10/GERRBOWL_Web-Thumbs3.jpg
END:VEVENT
BEGIN:VEVENT
DTSTART;TZID=Australia/Sydney:20200103T180000
DTEND;TZID=Australia/Sydney:20200103T200000
DTSTAMP:20200225T231329
CREATED:20190715T003630Z
LAST-MODIFIED:20191126T232351Z
UID:9224-1578074400-1578081600@gerringongbowlo.com.au
SUMMARY:Friday Mega Meat Raffle
DESCRIPTION:Friday Mega Meat Raffle – Meat trays & vouchers from Grants Butchers\, plus Fruit & Vegetable Boxes from Gerringong Fruit barn. \nTickets on sale from 6pm Drawn I Drawn 7pm \n
URL:http://gerringongbowlo.com.au/event/friday-mega-meat-raffle/2020-01-03/
ATTACH;FMTTYPE=image/jpeg:http://gerringongbowlo.com.au/wp-content/uploads/2019/07/GERRBOWL_Web-Thumbs2.jpg
END:VEVENT
BEGIN:VEVENT
DTSTART;TZID=Australia/Sydney:20200104T200000
DTEND;TZID=Australia/Sydney:20200104T230000
DTSTAMP:20200225T231329
CREATED:20191126T063305Z
LAST-MODIFIED:20191126T063305Z
UID:16449-1578168000-1578178800@gerringongbowlo.com.au
SUMMARY:Live Music
DESCRIPTION:Every Saturday from 8pm at the Bowlo \n
URL:http://gerringongbowlo.com.au/event/live-music-2/2020-01-04/
ATTACH;FMTTYPE=image/jpeg:http://gerringongbowlo.com.au/wp-content/uploads/2019/11/GERRBOWL_Various-Web-Thumbs6.jpg
END:VEVENT
BEGIN:VEVENT
DTSTART;VALUE=DATE:20200105
DTEND;VALUE=DATE:20200106
DTSTAMP:20200225T231329
CREATED:20191126T062948Z
LAST-MODIFIED:20191212T051037Z
UID:16342-1578182400-1578268799@gerringongbowlo.com.au
SUMMARY:Sombrero Sundays
DESCRIPTION:Available all day at Keah’s Kitchen \n  \nNachos | Burritos | Enchiladas \n  \nFamily fiesta platters \n$16 Corona buckets \nMexican wings \n$8 margaritas \nFree ice cream for kids with any meal! \n
URL:http://gerringongbowlo.com.au/event/sombrero-sundays/2020-01-05/
ATTACH;FMTTYPE=image/jpeg:http://gerringongbowlo.com.au/wp-content/uploads/2019/11/GERRBOWL_Various-Web-Thumbs5.jpg
END:VEVENT
BEGIN:VEVENT
DTSTART;TZID=Australia/Sydney:20200105T180000
DTEND;TZID=Australia/Sydney:20200105T200000
DTSTAMP:20200225T231329
CREATED:20190719T014343Z
LAST-MODIFIED:20191126T231159Z
UID:9617-1578247200-1578254400@gerringongbowlo.com.au
SUMMARY:Community Raffle
DESCRIPTION:Sunday Community Raffle \nTickets On Sale 6pm I Drawn at 7pm \n30 Prizes to be won \n
URL:http://gerringongbowlo.com.au/event/community-raffle/2020-01-05/
ATTACH;FMTTYPE=image/jpeg:http://gerringongbowlo.com.au/wp-content/uploads/2019/07/GERRBOWL_Web-Thumbs.jpg
END:VEVENT
BEGIN:VEVENT
DTSTART;TZID=Australia/Sydney:20200109T190000
DTEND;TZID=Australia/Sydney:20200109T190000
DTSTAMP:20200225T231329
CREATED:20181018T083557Z
LAST-MODIFIED:20191126T232527Z
UID:6186-1578596400-1578596400@gerringongbowlo.com.au
SUMMARY:Trivia Night
DESCRIPTION:They say that knowledge is power… \nAnd this is true at Gerringong Bowlo. Every Thursday night the battle of knowledge starts at 7pm. At our curated trivia nights\, you will laugh\, you will learn and you may even triumph. \n
URL:http://gerringongbowlo.com.au/event/trivia-night/2020-01-09/
ATTACH;FMTTYPE=image/jpeg:http://gerringongbowlo.com.au/wp-content/uploads/2018/10/GERRBOWL_Web-Thumbs3.jpg
END:VEVENT
END:VCALENDAR